BEGIN:VCALENDAR
VERSION:2.0
PRODID:-//jEvents 2.0 for Joomla//EN
CALSCALE:GREGORIAN
METHOD:PUBLISH
BEGIN:VTIMEZONE
TZID:Europe/Vienna
BEGIN:STANDARD
DTSTART:20241027T020000
RDATE:20250330T030000
TZOFFSETFROM:+0200
TZOFFSETTO:+0100
TZNAME:Europe/Vienna CET
END:STANDARD
BEGIN:STANDARD
DTSTART:20251026T020000
RDATE:20260329T030000
TZOFFSETFROM:+0200
TZOFFSETTO:+0100
TZNAME:Europe/Vienna CET
END:STANDARD
BEGIN:STANDARD
DTSTART:20261025T020000
RDATE:20270328T030000
TZOFFSETFROM:+0200
TZOFFSETTO:+0100
TZNAME:Europe/Vienna CET
END:STANDARD
BEGIN:STANDARD
DTSTART:20271031T020000
RDATE:20280326T030000
TZOFFSETFROM:+0200
TZOFFSETTO:+0100
TZNAME:Europe/Vienna CET
END:STANDARD
BEGIN:DAYLIGHT
DTSTART:20240713T000000
RDATE:20241027T020000
TZOFFSETFROM:+0100
TZOFFSETTO:+0200
TZNAME:Europe/Vienna CEST
END:DAYLIGHT
BEGIN:DAYLIGHT
DTSTART:20250330T030000
RDATE:20251026T020000
TZOFFSETFROM:+0100
TZOFFSETTO:+0200
TZNAME:Europe/Vienna CEST
END:DAYLIGHT
BEGIN:DAYLIGHT
DTSTART:20260329T030000
RDATE:20261025T020000
TZOFFSETFROM:+0100
TZOFFSETTO:+0200
TZNAME:Europe/Vienna CEST
END:DAYLIGHT
BEGIN:DAYLIGHT
DTSTART:20270328T030000
RDATE:20271031T020000
TZOFFSETFROM:+0100
TZOFFSETTO:+0200
TZNAME:Europe/Vienna CEST
END:DAYLIGHT
END:VTIMEZONE
BEGIN:VEVENT
UID:43cfa71ad9a70981ded3f6e6f8d29212
CATEGORIES:Training
CREATED:20250515T152514
SUMMARY:TR:: SCATT Jugendwoche 420er
LOCATION:SCATT
DESCRIPTION;ENCODING=QUOTED-PRINTABLE:
CONTACT:Diese E-Mail-Adresse ist vor Spambots geschützt! Zur Anzeige muss JavaScript eingeschaltet sein!
				document.getElementById('cloak4f3e07d6d8a03b0a1dba6deefc4f977b').innerHTML = '';
				var prefix = '&#109;a' + 'i&#108;' + '&#116;o';
				var path = 'hr' + 'ef' + '=';
				var addy4f3e07d6d8a03b0a1dba6deefc4f977b = 'r.l&#101;ng&#97;&#117;&#101;r' + '&#64;';
				addy4f3e07d6d8a03b0a1dba6deefc4f977b = addy4f3e07d6d8a03b0a1dba6deefc4f977b + 'sc&#97;tt' + '&#46;' + '&#97;t';
				var addy_text4f3e07d6d8a03b0a1dba6deefc4f977b = 'r.l&#101;ng&#97;&#117;&#101;r' + '&#64;' + 'sc&#97;tt' + '&#46;' + '&#97;t';document.getElementById('cloak4f3e07d6d8a03b0a1dba6deefc4f977b').innerHTML += ''+addy_text4f3e07d6d8a03b0a1dba6deefc4f977b+'';
		
X-EXTRAINFO:Infos Anmeldung SCATT Diese E-Mail-Adresse ist vor Spambots geschützt! Zur 
 Anzeige muss JavaScript eingeschaltet sein!
				document.getElementById('cl
 oaka024e48e26dec23bbecc1ac60f92bfd7').innerHTML = '';
				var prefix = '&#1
 09;a' + 'i&#108;' + '&#116;o';
				var path = 'hr' + 'ef' + '=';
				var ad
 dya024e48e26dec23bbecc1ac60f92bfd7 = 'r.l&#101;ng&#97;&#117;&#101;r' + '&#6
 4;';
				addya024e48e26dec23bbecc1ac60f92bfd7 = addya024e48e26dec23bbecc1ac
 60f92bfd7 + 'sc&#97;tt' + '&#46;' + '&#97;t';
				var addy_texta024e48e26de
 c23bbecc1ac60f92bfd7 = 'r.l&#101;ng&#97;&#117;&#101;r' + '&#64;' + 'sc&#97;
 tt' + '&#46;' + '&#97;t';document.getElementById('cloaka024e48e26dec23bbecc
 1ac60f92bfd7').innerHTML += ''+addy_texta024e48e26dec23bbecc1ac60f92bfd7+''
 ;
		
DTSTAMP:20260425T135217Z
DTSTART;TZID=Europe/Vienna;VALUE=DATE:20250714
DTEND;TZID=Europe/Vienna;VALUE=DATE:20250719
SEQUENCE:0
TRANSP:OPAQUE
END:VEVENT
END:VCALENDAR