BEGIN:VCALENDAR
VERSION:2.0
PRODID:-//jEvents 2.0 for Joomla//EN
CALSCALE:GREGORIAN
METHOD:PUBLISH
BEGIN:VTIMEZONE
TZID:Europe/Vienna
BEGIN:STANDARD
DTSTART:20241027T020000
RDATE:20250330T030000
TZOFFSETFROM:+0200
TZOFFSETTO:+0100
TZNAME:Europe/Vienna CET
END:STANDARD
BEGIN:STANDARD
DTSTART:20251026T020000
RDATE:20260329T030000
TZOFFSETFROM:+0200
TZOFFSETTO:+0100
TZNAME:Europe/Vienna CET
END:STANDARD
BEGIN:STANDARD
DTSTART:20261025T020000
RDATE:20270328T030000
TZOFFSETFROM:+0200
TZOFFSETTO:+0100
TZNAME:Europe/Vienna CET
END:STANDARD
BEGIN:STANDARD
DTSTART:20271031T020000
RDATE:20280326T030000
TZOFFSETFROM:+0200
TZOFFSETTO:+0100
TZNAME:Europe/Vienna CET
END:STANDARD
BEGIN:DAYLIGHT
DTSTART:20240627T000000
RDATE:20241027T020000
TZOFFSETFROM:+0100
TZOFFSETTO:+0200
TZNAME:Europe/Vienna CEST
END:DAYLIGHT
BEGIN:DAYLIGHT
DTSTART:20250330T030000
RDATE:20251026T020000
TZOFFSETFROM:+0100
TZOFFSETTO:+0200
TZNAME:Europe/Vienna CEST
END:DAYLIGHT
BEGIN:DAYLIGHT
DTSTART:20260329T030000
RDATE:20261025T020000
TZOFFSETFROM:+0100
TZOFFSETTO:+0200
TZNAME:Europe/Vienna CEST
END:DAYLIGHT
BEGIN:DAYLIGHT
DTSTART:20270328T030000
RDATE:20271031T020000
TZOFFSETFROM:+0100
TZOFFSETTO:+0200
TZNAME:Europe/Vienna CEST
END:DAYLIGHT
END:VTIMEZONE
BEGIN:VEVENT
UID:2940ec1d61bd60d0e1b2a7aca9dddca8
CATEGORIES:Training
CREATED:20250515T151613
SUMMARY:TR: 420er Training Attersee
LOCATION:SCATT
DESCRIPTION;ENCODING=QUOTED-PRINTABLE:
CONTACT:Diese E-Mail-Adresse ist vor Spambots geschützt! Zur Anzeige muss JavaScript eingeschaltet sein!
				document.getElementById('cloak59e47836c389eefcd05f2e0b62518edf').innerHTML = '';
				var prefix = '&#109;a' + 'i&#108;' + '&#116;o';
				var path = 'hr' + 'ef' + '=';
				var addy59e47836c389eefcd05f2e0b62518edf = 'r.l&#101;ng&#97;&#117;&#101;r' + '&#64;';
				addy59e47836c389eefcd05f2e0b62518edf = addy59e47836c389eefcd05f2e0b62518edf + 'sc&#97;tt' + '&#46;' + '&#97;t';
				var addy_text59e47836c389eefcd05f2e0b62518edf = 'r.l&#101;ng&#97;&#117;&#101;r' + '&#64;' + 'sc&#97;tt' + '&#46;' + '&#97;t';document.getElementById('cloak59e47836c389eefcd05f2e0b62518edf').innerHTML += ''+addy_text59e47836c389eefcd05f2e0b62518edf+'';
		
X-EXTRAINFO:Trainingskooperation UYCAS & SCATT\nInfos Anmeldung: SCATT (Diese E-Mail-Ad
 resse ist vor Spambots geschützt! Zur Anzeige muss JavaScript eingeschaltet
  sein!
				document.getElementById('cloak02ae841e37e8124ab654b5d16b0fa82d')
 .innerHTML = '';
				var prefix = '&#109;a' + 'i&#108;' + '&#116;o';
				va
 r path = 'hr' + 'ef' + '=';
				var addy02ae841e37e8124ab654b5d16b0fa82d = 
 'r.l&#101;ng&#97;&#117;&#101;r' + '&#64;';
				addy02ae841e37e8124ab654b5d1
 6b0fa82d = addy02ae841e37e8124ab654b5d16b0fa82d + 'sc&#97;tt' + '&#46;' + '
 &#97;t';
				var addy_text02ae841e37e8124ab654b5d16b0fa82d = 'r.l&#101;ng&#
 97;&#117;&#101;r' + '&#64;' + 'sc&#97;tt' + '&#46;' + '&#97;t';document.get
 ElementById('cloak02ae841e37e8124ab654b5d16b0fa82d').innerHTML += ''+addy_t
 ext02ae841e37e8124ab654b5d16b0fa82d+'';
		) & 420er KV
DTSTAMP:20260425T134907Z
DTSTART;TZID=Europe/Vienna;VALUE=DATE:20250628
DTEND;TZID=Europe/Vienna;VALUE=DATE:20250630
SEQUENCE:0
TRANSP:OPAQUE
END:VEVENT
END:VCALENDAR