BEGIN:VCALENDAR
VERSION:2.0
PRODID:-//jEvents 2.0 for Joomla//EN
CALSCALE:GREGORIAN
METHOD:PUBLISH
BEGIN:VTIMEZONE
TZID:Europe/Vienna
BEGIN:STANDARD
DTSTART:20241027T020000
RDATE:20250330T030000
TZOFFSETFROM:+0200
TZOFFSETTO:+0100
TZNAME:Europe/Vienna CET
END:STANDARD
BEGIN:STANDARD
DTSTART:20251026T020000
RDATE:20260329T030000
TZOFFSETFROM:+0200
TZOFFSETTO:+0100
TZNAME:Europe/Vienna CET
END:STANDARD
BEGIN:STANDARD
DTSTART:20261025T020000
RDATE:20270328T030000
TZOFFSETFROM:+0200
TZOFFSETTO:+0100
TZNAME:Europe/Vienna CET
END:STANDARD
BEGIN:STANDARD
DTSTART:20271031T020000
RDATE:20280326T030000
TZOFFSETFROM:+0200
TZOFFSETTO:+0100
TZNAME:Europe/Vienna CET
END:STANDARD
BEGIN:DAYLIGHT
DTSTART:20240516T000000
RDATE:20241027T020000
TZOFFSETFROM:+0100
TZOFFSETTO:+0200
TZNAME:Europe/Vienna CEST
END:DAYLIGHT
BEGIN:DAYLIGHT
DTSTART:20250330T030000
RDATE:20251026T020000
TZOFFSETFROM:+0100
TZOFFSETTO:+0200
TZNAME:Europe/Vienna CEST
END:DAYLIGHT
BEGIN:DAYLIGHT
DTSTART:20260329T030000
RDATE:20261025T020000
TZOFFSETFROM:+0100
TZOFFSETTO:+0200
TZNAME:Europe/Vienna CEST
END:DAYLIGHT
BEGIN:DAYLIGHT
DTSTART:20270328T030000
RDATE:20271031T020000
TZOFFSETFROM:+0100
TZOFFSETTO:+0200
TZNAME:Europe/Vienna CEST
END:DAYLIGHT
END:VTIMEZONE
BEGIN:VEVENT
UID:dbaeaea9b4398ab35c1ae6413e38db81
CATEGORIES:Training
CREATED:20250515T151255
SUMMARY:TR: 420er Training Attersee
LOCATION:UYCAS
DESCRIPTION;ENCODING=QUOTED-PRINTABLE:
CONTACT:UYCAS & SCATT
X-EXTRAINFO:Trainingskooperation UYCAS & SCATT\nInfos Anmeldung: UYCAS & SCATT (Diese E
 -Mail-Adresse ist vor Spambots geschützt! Zur Anzeige muss JavaScript einge
 schaltet sein!
				document.getElementById('cloak24d9e99ffa502df8fa8d133909
 e7d54f').innerHTML = '';
				var prefix = '&#109;a' + 'i&#108;' + '&#116;o'
 ;
				var path = 'hr' + 'ef' + '=';
				var addy24d9e99ffa502df8fa8d133909e
 7d54f = 'r.l&#101;ng&#97;&#117;&#101;r' + '&#64;';
				addy24d9e99ffa502df8
 fa8d133909e7d54f = addy24d9e99ffa502df8fa8d133909e7d54f + 'sc&#97;tt' + '&#
 46;' + '&#97;t';
				var addy_text24d9e99ffa502df8fa8d133909e7d54f = 'r.l&#
 101;ng&#97;&#117;&#101;r' + '&#64;' + 'sc&#97;tt' + '&#46;' + '&#97;t';docu
 ment.getElementById('cloak24d9e99ffa502df8fa8d133909e7d54f').innerHTML += '
 '+addy_text24d9e99ffa502df8fa8d133909e7d54f+'';
		)
DTSTAMP:20260425T134906Z
DTSTART;TZID=Europe/Vienna;VALUE=DATE:20250517
DTEND;TZID=Europe/Vienna;VALUE=DATE:20250519
SEQUENCE:0
TRANSP:OPAQUE
END:VEVENT
END:VCALENDAR